BEGIN:VCALENDAR
VERSION:2.0
PRODID:icalendar-ruby
CALSCALE:GREGORIAN
METHOD:PUBLISH
BEGIN:VTIMEZONE
TZID:Australia/Adelaide
BEGIN:DAYLIGHT
DTSTART:20261004T030000
TZOFFSETFROM:+0930
TZOFFSETTO:+1030
RRULE:FREQ=YEARLY;BYDAY=1SU;BYMONTH=10
TZNAME:ACDT
END:DAYLIGHT
BEGIN:STANDARD
DTSTART:20260405T020000
TZOFFSETFROM:+1030
TZOFFSETTO:+0930
RRULE:FREQ=YEARLY;BYDAY=1SU;BYMONTH=4
TZNAME:ACST
END:STANDARD
END:VTIMEZONE
BEGIN:VEVENT
DTSTAMP:20260422T073605Z
UID:inspection_3009100
DTSTART;TZID=Australia/Adelaide:20260425T130000
DTEND;TZID=Australia/Adelaide:20260425T131500
CLASS:PUBLIC
CREATED:20260422T122808
DESCRIPTION: 
LAST-MODIFIED:20260422T122808
LOCATION:206 / 160 Grote Street\, ADELAIDE SA 5000\, Australia
SUMMARY:206 / 160 Grote Street\,  Inspection
URL;VALUE=URI:http://www.korn.com.au/
END:VEVENT
END:VCALENDAR
